BEGIN:VCALENDAR
VERSION:2.0
PRODID:-//Eventin//Event Calendar//EN
CALSCALE:GREGORIAN
METHOD:PUBLISH
BEGIN:VEVENT
UID:1ffa4ba71e6001c2022127cc124ab681@bfcsedalia.org
SUMMARY:Women and Waffles
DESCRIPTION:
LOCATION:Online
DTSTAMP:20260423T120107Z
DTSTART:20231202T093000Z
DTEND:20260423T113000Z
END:VEVENT
END:VCALENDAR
